BEGIN:VCALENDAR
VERSION:2.0
PRODID:icalendar-ruby
CALSCALE:GREGORIAN
METHOD:PUBLISH
BEGIN:VEVENT
DTSTAMP:20260422T142117Z
UID:14-397855@gatherlosal.com
DTSTART:20261006T020000Z
DTEND:20261013T020000Z
CLASS:PUBLIC
CREATED:20260422T051833
DESCRIPTION:See Kristine Boyd for details
LAST-MODIFIED:20260422T051833
LOCATION:Zoom
SUMMARY:Bless Up 
URL;VALUE=URI:https://www.gatherlosal.com/events/bless-up/2026-10-05
ATTACH;FILENAME=GatherConnectBLESS_22.png;FMTTYPE=image/png:https://dq5pwpg
 1q8ru0.cloudfront.net/2025/06/11/22/16/05/d8c3f3aa-11bb-46f6-9068-8a8d30c6
 f0c8/GatherConnectBLESS_22.png
END:VEVENT
END:VCALENDAR
