BEGIN:VCALENDAR
VERSION:2.0
PRODID:icalendar-ruby
CALSCALE:GREGORIAN
METHOD:PUBLISH
BEGIN:VEVENT
DTSTAMP:20260422T001711Z
UID:15-397219@gatherlosal.com
DTSTART:20260805T010000Z
DTEND:20260805T020000Z
CLASS:PUBLIC
CREATED:20260421T153345
DESCRIPTION:See Jabari Boyd for details.
LAST-MODIFIED:20260421T153345
LOCATION:Google Meet
SUMMARY:Men of GCLA
URL;VALUE=URI:https://www.gatherlosal.com/events/men-of-gcla/2026-08-04
ATTACH;FILENAME=Copy-of-GatherConnectNIGHTS_22.png;FMTTYPE=image/png:https:
 //dq5pwpg1q8ru0.cloudfront.net/2025/06/11/22/22/53/367dda49-635b-4a3e-ae96
 -c6ffe00a9869/Copy-of-GatherConnectNIGHTS_22.png
END:VEVENT
END:VCALENDAR
