BEGIN:VCALENDAR
VERSION:2.0
PRODID:icalendar-ruby
CALSCALE:GREGORIAN
METHOD:PUBLISH
BEGIN:VEVENT
DTSTAMP:20260423T234637Z
UID:7-400853@gatherlosal.com
DTSTART:20261004T170000Z
DTEND:20261004T180000Z
CLASS:PUBLIC
CREATED:20260423T140359
DESCRIPTION:\nWe gather to build God's kingdom by helping the lost and hurt
 ing through biblical discipleship and passionate worship. Join Us at Gathe
 r Church – Every Sunday at 10 AM! We’d love to invite you to be part o
 f our church family—right from wherever you are. Tune in every Sunday at
  10 AM here on YouTube as we worship together\, hear from God’s Word\, a
 nd grow in faith. Whether you're exploring faith\, looking for encourageme
 nt\, or searching for a church to call home—you’re welcome here. \n Su
 bscribe to our YouTube channel and hit the bell so you never miss a servic
 e! https://www.youtube.com/@gatherchurchla/featured \n Follow us on Instag
 ram for inspiration\, community updates\, and encouragement throughout the
  week: https://www.instagram.com/gatherchurchla/ \n Visit our website to l
 earn more about Gather Church\, get involved\, or connect with us directly
 : https://gatherlosal.com/ See you Sunday! 
LAST-MODIFIED:20260423T140359
LOCATION:3333 St Cloud DrSeal Beach\, CA 90740
SUMMARY:Sunday Service
URL;VALUE=URI:https://www.gatherlosal.com/events/sunday-service/2026-10-04
END:VEVENT
END:VCALENDAR
